BEGIN:VCALENDAR
VERSION:2.0
PRODID:-//eventon.com NONSGML v1.0//EN
CALSCALE:GREGORIAN
METHOD:PUBLISH
BEGIN:VEVENT
UID:69e74be3384cf
DTSTAMP:20260421T100523Z
DTSTART:20260228T180000Z
DTEND:20260301T055900Z
LOCATION:Good Fellas Tavern 109 South State Street
SUMMARY:Cottontail Fun Hunt
DESCRIPTION:Register by February 27th Check in at noon at Good Fellas Taver
 n\nhttps://www.argylewi.gov/events/cottontail-fun-hunt-2/
URL:https://www.argylewi.gov/events/cottontail-fun-hunt-2/
END:VEVENT
END:VCALENDAR