BEGIN:VCALENDAR
VERSION:2.0
PRODID:-//eventon.com NONSGML v1.0//EN
CALSCALE:GREGORIAN
METHOD:PUBLISH
BEGIN:VEVENT
UID:69e732e97c0b9
DTSTAMP:20260421T081849Z
DTSTART:20261223
DTEND:20261224
LOCATION:Good Fellas Tavern 109 South State Street
SUMMARY:Festivus
DESCRIPTION:\nhttps://www.argylewi.gov/events/festivus/
URL:https://www.argylewi.gov/events/festivus/
END:VEVENT
END:VCALENDAR